BEGIN:VCALENDAR
VERSION:2.0
BEGIN:VEVENT
DTSTART;TZID=Europe/Stockholm:20230604T160000
DTEND;TZID=Europe/Stockholm:20230604T170000
DTSTAMP:20260420T110448
DESCRIPTION:Extra insamling till 
Söndagsskola
Predikan: 
Sång & Musik: 
Ledning:
SEQUENCE:0
SUMMARY:Gudstjänst med Nattvard
UID:4264@lawebb.se
END:VEVENT
END:VCALENDAR