BEGIN:VCALENDAR
VERSION:2.0
BEGIN:VEVENT
DTSTART;TZID=Europe/Stockholm:20230613T190000
DTEND;TZID=Europe/Stockholm:20230613T200000
DTSTAMP:20260420T112938
DESCRIPTION:
SEQUENCE:0
SUMMARY:Församlingsråd
UID:9829@lawebb.se
END:VEVENT
END:VCALENDAR