BEGIN:VCALENDAR
VERSION:2.0
BEGIN:VEVENT
DTSTART;TZID=Europe/Stockholm:20230701T180000
DTEND;TZID=Europe/Stockholm:20230701T190000
DTSTAMP:20260420T130035
DESCRIPTION:Medverkande: 
Xkyrkan ansvarar
Servering
SEQUENCE:0
SUMMARY:Lördagskväll på Espenäs
UID:8925@lawebb.se
END:VEVENT
END:VCALENDAR