BEGIN:VCALENDAR
VERSION:2.0
BEGIN:VEVENT
DTSTART;TZID=Europe/Stockholm:20230715T180000
DTEND;TZID=Europe/Stockholm:20230715T190000
DTSTAMP:20260420T130702
DESCRIPTION:Medverkande: 
Xkyrkan ansvarar
Servering
SEQUENCE:0
SUMMARY:Lördagskväll på Espenäs
UID:7247@lawebb.se
END:VEVENT
END:VCALENDAR