BEGIN:VCALENDAR
VERSION:2.0
BEGIN:VEVENT
DTSTART;TZID=Europe/Stockholm:20230716T160000
DTEND;TZID=Europe/Stockholm:20230716T170000
DTSTAMP:20260420T130900
DESCRIPTION:Predikan: 
Sång & Musik: 
Information:
SEQUENCE:0
SUMMARY:Gudstjänst med Söndagsskola
UID:3763@lawebb.se
END:VEVENT
END:VCALENDAR