BEGIN:VCALENDAR
VERSION:2.0
BEGIN:VEVENT
DTSTART;TZID=Europe/Stockholm:20230719T193000
DTEND;TZID=Europe/Stockholm:20230719T203000
DTSTAMP:20260420T130733
DESCRIPTION:Öppen kyrka från kl 18
SEQUENCE:0
SUMMARY:Bön i kyrkan
UID:2389@lawebb.se
END:VEVENT
END:VCALENDAR