BEGIN:VCALENDAR
VERSION:2.0
BEGIN:VEVENT
DTSTART;TZID=Europe/Stockholm:20230729T180000
DTEND;TZID=Europe/Stockholm:20230729T190000
DTSTAMP:20260420T130034
DESCRIPTION:Medverkande: 
Xkyrkan ansvarar
Servering
SEQUENCE:0
SUMMARY:Lördagskväll på Espenäs
UID:2567@lawebb.se
END:VEVENT
END:VCALENDAR