BEGIN:VCALENDAR
VERSION:2.0
BEGIN:VEVENT
DTSTART;TZID=Europe/Stockholm:20230730T100000
DTEND;TZID=Europe/Stockholm:20230730T110000
DTSTAMP:20260420T130247
DESCRIPTION:Gudstjänst tillsammans med Pingst- och Rävåskyrkan på sommarhemmet Espenäs
Predikan: 
Sång & Musik: 
Ledning:
SEQUENCE:0
SUMMARY:Gudstjänst på Espenäs
UID:2958@lawebb.se
END:VEVENT
END:VCALENDAR