BEGIN:VCALENDAR
VERSION:2.0
BEGIN:VEVENT
DTSTART;TZID=Europe/Stockholm:20230802T193000
DTEND;TZID=Europe/Stockholm:20230802T203000
DTSTAMP:20260420T150445
DESCRIPTION:Öppen kyrka från kl 18
SEQUENCE:0
SUMMARY:Bön i kyrkan
UID:3798@lawebb.se
END:VEVENT
END:VCALENDAR