BEGIN:VCALENDAR
VERSION:2.0
BEGIN:VEVENT
DTSTART;TZID=Europe/Stockholm:20230806T160000
DTEND;TZID=Europe/Stockholm:20230806T170000
DTSTAMP:20260420T150941
DESCRIPTION:Extra insamling till 
Söndagsskola
Predikan: 
Sång & Musik: 
Ledning:
SEQUENCE:0
SUMMARY:Gudstjänst med Nattvard
UID:9589@lawebb.se
END:VEVENT
END:VCALENDAR