BEGIN:VCALENDAR
VERSION:2.0
BEGIN:VEVENT
DTSTART;TZID=Europe/Stockholm:20230809T193000
DTEND;TZID=Europe/Stockholm:20230809T203000
DTSTAMP:20260420T150107
DESCRIPTION:Öppen kyrka från kl 18
SEQUENCE:0
SUMMARY:Bön i kyrkan
UID:6355@lawebb.se
END:VEVENT
END:VCALENDAR