BEGIN:VCALENDAR
VERSION:2.0
BEGIN:VEVENT
DTSTART;TZID=Europe/Stockholm:20230820T160000
DTEND;TZID=Europe/Stockholm:20230820T170000
DTSTAMP:20260420T150052
DESCRIPTION:Predikan: 
Sång & Musik: 
Information:
SEQUENCE:0
SUMMARY:Gudstjänst med Söndagsskola
UID:6997@lawebb.se
END:VEVENT
END:VCALENDAR