BEGIN:VCALENDAR
VERSION:2.0
BEGIN:VEVENT
DTSTART;TZID=Europe/Stockholm:20230823T193000
DTEND;TZID=Europe/Stockholm:20230823T203000
DTSTAMP:20260420T150620
DESCRIPTION:Öppen kyrka från kl 18
SEQUENCE:0
SUMMARY:Bön i kyrkan
UID:2747@lawebb.se
END:VEVENT
END:VCALENDAR