BEGIN:VCALENDAR
VERSION:2.0
BEGIN:VEVENT
DTSTART;TZID=Europe/Stockholm:20230826T100000
DTEND;TZID=Europe/Stockholm:20230826T110000
DTSTAMP:20260420T150420
DESCRIPTION:
SEQUENCE:0
SUMMARY:Bibelstudium
UID:3999@lawebb.se
END:VEVENT
END:VCALENDAR