BEGIN:VCALENDAR
VERSION:2.0
BEGIN:VEVENT
DTSTART;TZID=Europe/Stockholm:20230827T160000
DTEND;TZID=Europe/Stockholm:20230827T170000
DTSTAMP:20260420T150033
DESCRIPTION:Predikan: 
Sång & Musik: 
Information:
SEQUENCE:0
SUMMARY:Gudstjänst med Söndagsskola
UID:3372@lawebb.se
END:VEVENT
END:VCALENDAR