BEGIN:VCALENDAR
VERSION:2.0
BEGIN:VEVENT
DTSTART;TZID=Europe/Stockholm:20230901T190000
DTEND;TZID=Europe/Stockholm:20230901T200000
DTSTAMP:20260420T163300
DESCRIPTION:
SEQUENCE:0
SUMMARY:Tonår
UID:9352@lawebb.se
END:VEVENT
END:VCALENDAR