BEGIN:VCALENDAR
VERSION:2.0
BEGIN:VEVENT
DTSTART;TZID=Europe/Stockholm:20230909T100000
DTEND;TZID=Europe/Stockholm:20230909T110000
DTSTAMP:20260420T163805
DESCRIPTION:
SEQUENCE:0
SUMMARY:Bibelstudium
UID:6669@lawebb.se
END:VEVENT
END:VCALENDAR