BEGIN:VCALENDAR
VERSION:2.0
BEGIN:VEVENT
DTSTART;TZID=Europe/Stockholm:20230915T180000
DTEND;TZID=Europe/Stockholm:20230915T190000
DTSTAMP:20260420T163422
DESCRIPTION:
SEQUENCE:0
SUMMARY:Bibelstudium med tonår
UID:2574@lawebb.se
END:VEVENT
END:VCALENDAR