BEGIN:VCALENDAR
VERSION:2.0
BEGIN:VEVENT
DTSTART;TZID=Europe/Stockholm:20230919T190000
DTEND;TZID=Europe/Stockholm:20230919T200000
DTSTAMP:20260420T163230
DESCRIPTION:Bibelstudium och Lovsång
SEQUENCE:0
SUMMARY:Powerstation med Ned Modesha
UID:7996@lawebb.se
END:VEVENT
END:VCALENDAR