BEGIN:VCALENDAR
VERSION:2.0
BEGIN:VEVENT
DTSTART;TZID=Europe/Stockholm:20230920T090000
DTEND;TZID=Europe/Stockholm:20230920T100000
DTSTAMP:20260420T163742
DESCRIPTION:
SEQUENCE:0
SUMMARY:Öppet hus kl 9-12
UID:2289@lawebb.se
END:VEVENT
END:VCALENDAR