BEGIN:VCALENDAR
VERSION:2.0
BEGIN:VEVENT
DTSTART;TZID=Europe/Stockholm:20230922T190000
DTEND;TZID=Europe/Stockholm:20230922T200000
DTSTAMP:20260420T163604
DESCRIPTION:
SEQUENCE:0
SUMMARY:Tonår
UID:6653@lawebb.se
END:VEVENT
END:VCALENDAR