BEGIN:VCALENDAR
VERSION:2.0
BEGIN:VEVENT
DTSTART;TZID=Europe/Stockholm:20230922T180000
DTEND;TZID=Europe/Stockholm:20230922T190000
DTSTAMP:20260420T163249
DESCRIPTION:
SEQUENCE:0
SUMMARY:Bibelstudium med tonår
UID:7264@lawebb.se
END:VEVENT
END:VCALENDAR