BEGIN:VCALENDAR
VERSION:2.0
BEGIN:VEVENT
DTSTART;TZID=Europe/Stockholm:20230924T160000
DTEND;TZID=Europe/Stockholm:20230924T170000
DTSTAMP:20260420T163933
DESCRIPTION:Predikan: 
Sång & Musik: 
Information:
SEQUENCE:0
SUMMARY:Gudstjänst med Söndagsskola
UID:5239@lawebb.se
END:VEVENT
END:VCALENDAR