BEGIN:VCALENDAR
VERSION:2.0
BEGIN:VEVENT
DTSTART;TZID=Europe/Stockholm:20231001T160000
DTEND;TZID=Europe/Stockholm:20231001T170000
DTSTAMP:20260420T180621
DESCRIPTION:Predikan: 
Sång & Musik: 
Information:
SEQUENCE:0
SUMMARY:Gudstjänst med Söndagsskola
UID:2224@lawebb.se
END:VEVENT
END:VCALENDAR