BEGIN:VCALENDAR
VERSION:2.0
BEGIN:VEVENT
DTSTART;TZID=Europe/Stockholm:20231013T180000
DTEND;TZID=Europe/Stockholm:20231013T190000
DTSTAMP:20260420T180541
DESCRIPTION:
SEQUENCE:0
SUMMARY:Bibelstudium med tonår
UID:9392@lawebb.se
END:VEVENT
END:VCALENDAR