BEGIN:VCALENDAR
VERSION:2.0
BEGIN:VEVENT
DTSTART;TZID=Europe/Stockholm:20231015T160000
DTEND;TZID=Europe/Stockholm:20231015T170000
DTSTAMP:20260420T181108
DESCRIPTION:Predikan: 
Sång & Musik: 
Information:
SEQUENCE:0
SUMMARY:Gudstjänst med Söndagsskola
UID:8363@lawebb.se
END:VEVENT
END:VCALENDAR