BEGIN:VCALENDAR
VERSION:2.0
BEGIN:VEVENT
DTSTART;TZID=Europe/Stockholm:20231017T190000
DTEND;TZID=Europe/Stockholm:20231017T200000
DTSTAMP:20260420T180414
DESCRIPTION:Bibelstudium och Lovsång
SEQUENCE:0
SUMMARY:Powerstation med Ned Modesha
UID:8968@lawebb.se
END:VEVENT
END:VCALENDAR