BEGIN:VCALENDAR
VERSION:2.0
BEGIN:VEVENT
DTSTART;TZID=Europe/Stockholm:20231018T193000
DTEND;TZID=Europe/Stockholm:20231018T203000
DTSTAMP:20260420T180918
DESCRIPTION:Öppen kyrka från kl 18
SEQUENCE:0
SUMMARY:Bön i kyrkan
UID:6577@lawebb.se
END:VEVENT
END:VCALENDAR