BEGIN:VCALENDAR
VERSION:2.0
BEGIN:VEVENT
DTSTART;TZID=Europe/Stockholm:20231020T190000
DTEND;TZID=Europe/Stockholm:20231020T200000
DTSTAMP:20260420T181144
DESCRIPTION:
SEQUENCE:0
SUMMARY:Tonår
UID:6663@lawebb.se
END:VEVENT
END:VCALENDAR