BEGIN:VCALENDAR
VERSION:2.0
BEGIN:VEVENT
DTSTART;TZID=Europe/Stockholm:20231025T193000
DTEND;TZID=Europe/Stockholm:20231025T203000
DTSTAMP:20260420T180858
DESCRIPTION:Öppen kyrka från kl 18
SEQUENCE:0
SUMMARY:Bön i kyrkan
UID:7745@lawebb.se
END:VEVENT
END:VCALENDAR