BEGIN:VCALENDAR
VERSION:2.0
BEGIN:VEVENT
DTSTART;TZID=Europe/Stockholm:20231025T090000
DTEND;TZID=Europe/Stockholm:20231025T100000
DTSTAMP:20260420T180540
DESCRIPTION:
SEQUENCE:0
SUMMARY:Öppet hus kl 9-12
UID:9486@lawebb.se
END:VEVENT
END:VCALENDAR