BEGIN:VCALENDAR
VERSION:2.0
BEGIN:VEVENT
DTSTART;TZID=Europe/Stockholm:20231027T190000
DTEND;TZID=Europe/Stockholm:20231027T200000
DTSTAMP:20260420T180924
DESCRIPTION:
SEQUENCE:0
SUMMARY:Tonår
UID:8459@lawebb.se
END:VEVENT
END:VCALENDAR