BEGIN:VCALENDAR
VERSION:2.0
BEGIN:VEVENT
DTSTART;TZID=Europe/Stockholm:20231027T180000
DTEND;TZID=Europe/Stockholm:20231027T190000
DTSTAMP:20260420T180453
DESCRIPTION:
SEQUENCE:0
SUMMARY:Bibelstudium med tonår
UID:8823@lawebb.se
END:VEVENT
END:VCALENDAR