BEGIN:VCALENDAR
VERSION:2.0
BEGIN:VEVENT
DTSTART;TZID=Europe/Stockholm:20231028T100000
DTEND;TZID=Europe/Stockholm:20231028T110000
DTSTAMP:20260420T180754
DESCRIPTION:
SEQUENCE:0
SUMMARY:Bibelstudium
UID:8784@lawebb.se
END:VEVENT
END:VCALENDAR