BEGIN:VCALENDAR
VERSION:2.0
BEGIN:VEVENT
DTSTART;TZID=Europe/Stockholm:20231104T100000
DTEND;TZID=Europe/Stockholm:20231104T110000
DTSTAMP:20260420T195616
DESCRIPTION:
SEQUENCE:0
SUMMARY:Bibelstudium
UID:9454@lawebb.se
END:VEVENT
END:VCALENDAR