BEGIN:VCALENDAR
VERSION:2.0
BEGIN:VEVENT
DTSTART;TZID=Europe/Stockholm:20231111T100000
DTEND;TZID=Europe/Stockholm:20231111T110000
DTSTAMP:20260420T195929
DESCRIPTION:
SEQUENCE:0
SUMMARY:Bibelstudium
UID:4757@lawebb.se
END:VEVENT
END:VCALENDAR