BEGIN:VCALENDAR
VERSION:2.0
BEGIN:VEVENT
DTSTART;TZID=Europe/Stockholm:20231114T190000
DTEND;TZID=Europe/Stockholm:20231114T200000
DTSTAMP:20260420T195431
DESCRIPTION:Bibelstudium och Lovsång
SEQUENCE:0
SUMMARY:Powerstation med Ned Modesha
UID:7479@lawebb.se
END:VEVENT
END:VCALENDAR