BEGIN:VCALENDAR
VERSION:2.0
BEGIN:VEVENT
DTSTART;TZID=Europe/Stockholm:20231117T190000
DTEND;TZID=Europe/Stockholm:20231117T200000
DTSTAMP:20260420T195959
DESCRIPTION:
SEQUENCE:0
SUMMARY:Tonår
UID:3974@lawebb.se
END:VEVENT
END:VCALENDAR