BEGIN:VCALENDAR
VERSION:2.0
BEGIN:VEVENT
DTSTART;TZID=Europe/Stockholm:20231119T160000
DTEND;TZID=Europe/Stockholm:20231119T170000
DTSTAMP:20260420T200041
DESCRIPTION:Predikan: 
Sång & Musik: 
Information:
SEQUENCE:0
SUMMARY:Gudstjänst med Söndagsskola
UID:5666@lawebb.se
END:VEVENT
END:VCALENDAR