BEGIN:VCALENDAR
VERSION:2.0
BEGIN:VEVENT
DTSTART;TZID=Europe/Stockholm:20231124T190000
DTEND;TZID=Europe/Stockholm:20231124T200000
DTSTAMP:20260420T195717
DESCRIPTION:
SEQUENCE:0
SUMMARY:Tonår
UID:4383@lawebb.se
END:VEVENT
END:VCALENDAR