BEGIN:VCALENDAR
VERSION:2.0
BEGIN:VEVENT
DTSTART;TZID=Europe/Stockholm:20231124T180000
DTEND;TZID=Europe/Stockholm:20231124T190000
DTSTAMP:20260420T195415
DESCRIPTION:
SEQUENCE:0
SUMMARY:Bibelstudium med tonår
UID:8259@lawebb.se
END:VEVENT
END:VCALENDAR