BEGIN:VCALENDAR
VERSION:2.0
BEGIN:VEVENT
DTSTART;TZID=Europe/Stockholm:20231129T090000
DTEND;TZID=Europe/Stockholm:20231129T100000
DTSTAMP:20260420T195452
DESCRIPTION:
SEQUENCE:0
SUMMARY:Öppet hus kl 9-12
UID:3383@lawebb.se
END:VEVENT
END:VCALENDAR