BEGIN:VCALENDAR
VERSION:2.0
BEGIN:VEVENT
DTSTART;TZID=Europe/Stockholm:20231201T180000
DTEND;TZID=Europe/Stockholm:20231201T190000
DTSTAMP:20260420T213415
DESCRIPTION:
SEQUENCE:0
SUMMARY:Bibelstudium med tonår
UID:6669@lawebb.se
END:VEVENT
END:VCALENDAR