BEGIN:VCALENDAR
VERSION:2.0
BEGIN:VEVENT
DTSTART;TZID=Europe/Stockholm:20231203T160000
DTEND;TZID=Europe/Stockholm:20231203T170000
DTSTAMP:20260420T213732
DESCRIPTION:Extra insamling till 
Söndagsskola
Predikan: 
Sång & Musik: 
Ledning:
SEQUENCE:0
SUMMARY:Gudstjänst med Nattvard
UID:7662@lawebb.se
END:VEVENT
END:VCALENDAR