BEGIN:VCALENDAR
VERSION:2.0
BEGIN:VEVENT
DTSTART;TZID=Europe/Stockholm:20231206T193000
DTEND;TZID=Europe/Stockholm:20231206T203000
DTSTAMP:20260420T213702
DESCRIPTION:Öppen kyrka från kl 18
SEQUENCE:0
SUMMARY:Bön i kyrkan
UID:5698@lawebb.se
END:VEVENT
END:VCALENDAR