BEGIN:VCALENDAR
VERSION:2.0
BEGIN:VEVENT
DTSTART;TZID=Europe/Stockholm:20231209T100000
DTEND;TZID=Europe/Stockholm:20231209T110000
DTSTAMP:20260420T214154
DESCRIPTION:
SEQUENCE:0
SUMMARY:Bibelstudium
UID:5528@lawebb.se
END:VEVENT
END:VCALENDAR