BEGIN:VCALENDAR
VERSION:2.0
BEGIN:VEVENT
DTSTART;TZID=Europe/Stockholm:20231215T180000
DTEND;TZID=Europe/Stockholm:20231215T190000
DTSTAMP:20260420T213726
DESCRIPTION:
SEQUENCE:0
SUMMARY:Bibelstudium med tonår
UID:3652@lawebb.se
END:VEVENT
END:VCALENDAR