BEGIN:VCALENDAR
VERSION:2.0
BEGIN:VEVENT
DTSTART;TZID=Europe/Stockholm:20231217T160000
DTEND;TZID=Europe/Stockholm:20231217T170000
DTSTAMP:20260420T213904
DESCRIPTION:Predikan: 
Sång & Musik: 
Information:
SEQUENCE:0
SUMMARY:Gudstjänst med Söndagsskola
UID:6989@lawebb.se
END:VEVENT
END:VCALENDAR