BEGIN:VCALENDAR
VERSION:2.0
BEGIN:VEVENT
DTSTART;TZID=Europe/Stockholm:20231222T190000
DTEND;TZID=Europe/Stockholm:20231222T200000
DTSTAMP:20260420T214021
DESCRIPTION:
SEQUENCE:0
SUMMARY:Tonår
UID:9548@lawebb.se
END:VEVENT
END:VCALENDAR