BEGIN:VCALENDAR
VERSION:2.0
BEGIN:VEVENT
DTSTART;TZID=Europe/Stockholm:20231222T180000
DTEND;TZID=Europe/Stockholm:20231222T190000
DTSTAMP:20260420T213544
DESCRIPTION:
SEQUENCE:0
SUMMARY:Bibelstudium med tonår
UID:5528@lawebb.se
END:VEVENT
END:VCALENDAR